Workbook

Sheet Lopsided Margins
B1: Party | E1: Percent Votes | G1: Party Wins | J1: Average Winning Margin | K1: Dem | M1: =AVERAGE(G2:G15) -> 0.61173141
A2: DISTRICT | B2: Dem | C2: Rep | D2: Total Votes | E2: Dem | F2: Rep | G2: Dem | H2: Rep | K2: Rep | M2: =AVERAGE(H2:H15) -> 0.57192795
A3: 1 | B3: 2014575 | C3: 2729623 | D3: =SUM(B3:C3) -> 4744198 | E3: =B3/D3 -> 0.42463974 | F3: =C3/D3 -> 0.57536026 | G3: =IF(E3>0.5,E3,"") | H3: =IF(F3>0.5,F3,"") -> 0.57536026
A4: 2 | B4: 1606164 | C4: 2458415 | D4: =SUM(B4:C4) -> 4064579 | E4: =B4/D4 -> 0.39516122 | F4: =C4/D4 -> 0.60483878 | G4: =IF(E4>0.5,E4,"") | H4: =IF(F4>0.5,F4,"") -> 0.60483878 | J4: Finding
A5: 3 | B5: 2060007 | C5: 2067194 | D5: =SUM(B5:C5) -> 4127201 | E5: =B5/D5 -> 0.49912931 | F5: =C5/D5 -> 0.50087069 | G5: =IF(E5>0.5,E5,"") | H5: =IF(F5>0.5,F5,"") -> 0.50087069 | J5: =IF(MAX(M1:M2)=M1,K2,K1) -> Rep | K5: Districts have a lopsided margin advantage of
A6: 4 | B6: 1919525 | C6: 2268384 | D6: =SUM(B6:C6) -> 4187909 | E6: =B6/D6 -> 0.45834926 | F6: =C6/D6 -> 0.54165074 | G6: =IF(E6>0.5,E6,"") | H6: =IF(F6>0.5,F6,"") -> 0.54165074 | K6: =MAX(M1:M2)-MIN(M1:M2) -> 0.039803456
A7: 5 | B7: 1639749 | C7: 2383861 | D7: =SUM(B7:C7) -> 4023610 | E7: =B7/D7 -> 0.40753179 | F7: =C7/D7 -> 0.59246821 | G7: =IF(E7>0.5,E7,"") | H7: =IF(F7>0.5,F7,"") -> 0.59246821
A8: 6 | B8: 2807351 | C8: 1786702 | D8: =SUM(B8:C8) -> 4594053 | E8: =B8/D8 -> 0.61108372 | F8: =C8/D8 -> 0.38891628 | G8: =IF(E8>0.5,E8,"") -> 0.61108372 | H8: =IF(F8>0.5,F8,"")
A9: 7 | B9: 2294626 | C9: 2256640 | D9: =SUM(B9:C9) -> 4551266 | E9: =B9/D9 -> 0.50417312 | F9: =C9/D9 -> 0.49582688 | G9: =IF(E9>0.5,E9,"") -> 0.50417312 | H9: =IF(F9>0.5,F9,"")
A10: 8 | B10: 2465441 | C10: 2033607 | D10: =SUM(B10:C10) -> 4499048 | E10: =B10/D10 -> 0.54799171 | F10: =C10/D10 -> 0.45200829 | G10: =IF(E10>0.5,E10,"") -> 0.54799171 | H10: =IF(F10>0.5,F10,"")
A11: 9 | B11: 1750528 | C11: 2812643 | D11: =SUM(B11:C11) -> 4563171 | E11: =B11/D11 -> 0.38362095 | F11: =C11/D11 -> 0.61637905 | G11: =IF(E11>0.5,E11,"") | H11: =IF(F11>0.5,F11,"") -> 0.61637905
A12: 10 | B12: 2205758 | C12: 2098661 | D12: =SUM(B12:C12) -> 4304419 | E12: =B12/D12 -> 0.51244035 | F12: =C12/D12 -> 0.48755965 | G12: =IF(E12>0.5,E12,"") -> 0.51244035 | H12: =IF(F12>0.5,F12,"")
A13: 11 | B13: 2734755 | C13: 2010497 | D13: =SUM(B13:C13) -> 4745252 | E13: =B13/D13 -> 0.57631397 | F13: =C13/D13 -> 0.42368603 | G13: =IF(E13>0.5,E13,"") -> 0.57631397 | H13: =IF(F13>0.5,F13,"")
A14: 12 | B14: 3023910 | C14: 990719 | D14: =SUM(B14:C14) -> 4014629 | E14: =B14/D14 -> 0.75322278 | F14: =C14/D14 -> 0.24677722 | G14: =IF(E14>0.5,E14,"") -> 0.75322278 | H14: =IF(F14>0.5,F14,"")
A15: 13 | B15: 2756127 | C15: 791495 | D15: =SUM(B15:C15) -> 3547622 | E15: =B15/D15 -> 0.77689421 | F15: =C15/D15 -> 0.22310579 | G15: =IF(E15>0.5,E15,"") -> 0.77689421 | H15: =IF(F15>0.5,F15,"")

Sheet Mean-Median Difference
B1: Party | E1: Dem Sorted Low to High | I1: District Median Percentage | J1: Dem | L1: =MEDIAN(B2:B15) -> 0.50417312
A2: DISTRICT | B2: Dem | C2: Rep | E2: DISTRICT | F2: Dem | G2: Rep | J2: Rep | L2: =MEDIAN(C2:C15) -> 0.49582688
A3: 1 | B3: ='Lopsided Margins'!E3 -> 0.42463974 | C3: ='Lopsided Margins'!F3 -> 0.57536026 | D3: =RANK(B3,$B$3:$B$3) -> 1 | E3: 1 | F3: =INDEX($B$3:$B$3,MATCH(14,$D$3:$D$3,0)) -> #N/A | G3: =INDEX($C$3:$C$3,MATCH(14,$D$3:$D$3,0)) -> #N/A | I3: Statewide mean percentage | J3: Dem | L3: =AVERAGE(B2:B15) -> 0.52696555
A4: 2 | B4: ='Lopsided Margins'!E4 -> 0.39516122 | C4: ='Lopsided Margins'!F4 -> 0.60483878 | E4: 2 | F4: =INDEX($B$3:$B$3,MATCH(14,$D$3:$D$3,0)) -> #N/A | G4: =INDEX($C$3:$C$3,MATCH(14,$D$3:$D$3,0)) -> #N/A | J4: Rep | L4: =AVERAGE(C2:C15) -> 0.47303445
A5: 3 | B5: ='Lopsided Margins'!E5 -> 0.49912931 | C5: ='Lopsided Margins'!F5 -> 0.50087069 | E5: 3 | F5: =INDEX($B$3:$B$3,MATCH(14,$D$3:$D$3,0)) -> #N/A | G5: =INDEX($C$3:$C$3,MATCH(14,$D$3:$D$3,0)) -> #N/A | I5: Mean-Median Difference | J5: Dem | L5: =L3-L1 -> 0.022792425
A6: 4 | B6: ='Lopsided Margins'!E6 -> 0.45834926 | C6: ='Lopsided Margins'!F6 -> 0.54165074 | E6: 4 | F6: =INDEX($B$3:$B$3,MATCH(14,$D$3:$D$3,0)) -> #N/A | G6: =INDEX($C$3:$C$3,MATCH(14,$D$3:$D$3,0)) -> #N/A | J6: Rep | L6: =L4-L2 -> -0.022792425
A7: 5 | B7: ='Lopsided Margins'!E7 -> 0.40753179 | C7: ='Lopsided Margins'!F7 -> 0.59246821 | E7: 5 | F7: =INDEX($B$3:$B$3,MATCH(14,$D$3:$D$3,0)) -> #N/A | G7: =INDEX($C$3:$C$3,MATCH(14,$D$3:$D$3,0)) -> #N/A
A8: 6 | B8: ='Lopsided Margins'!E8 -> 0.61108372 | C8: ='Lopsided Margins'!F8 -> 0.38891628 | E8: 6 | F8: =INDEX($B$3:$B$3,MATCH(14,$D$3:$D$3,0)) -> #N/A | G8: =INDEX($C$3:$C$3,MATCH(14,$D$3:$D$3,0)) -> #N/A | I8: Findings
A9: 7 | B9: ='Lopsided Margins'!E9 -> 0.50417312 | C9: ='Lopsided Margins'!F9 -> 0.49582688 | E9: 7 | F9: =INDEX($B$3:$B$3,MATCH(14,$D$3:$D$3,0)) -> #N/A | G9: =INDEX($C$3:$C$3,MATCH(14,$D$3:$D$3,0)) -> #N/A | I9: =IF(MAX(L5:L6)=L5,J6,J5) -> Rep | J9: Districts have a mean-median advantage of
A10: 8 | B10: ='Lopsided Margins'!E10 -> 0.54799171 | C10: ='Lopsided Margins'!F10 -> 0.45200829 | E10: 8 | F10: =INDEX($B$3:$B$3,MATCH(14,$D$3:$D$3,0)) -> #N/A | G10: =INDEX($C$3:$C$3,MATCH(14,$D$3:$D$3,0)) -> #N/A | J10: =ABS(MIN(L5:L6)) -> 0.022792425
A11: 9 | B11: ='Lopsided Margins'!E11 -> 0.38362095 | C11: ='Lopsided Margins'!F11 -> 0.61637905 | E11: 9 | F11: =INDEX($B$3:$B$3,MATCH(14,$D$3:$D$3,0)) -> #N/A | G11: =INDEX($C$3:$C$3,MATCH(14,$D$3:$D$3,0)) -> #N/A
A12: 10 | B12: ='Lopsided Margins'!E12 -> 0.51244035 | C12: ='Lopsided Margins'!F12 -> 0.48755965 | E12: 10 | F12: =INDEX($B$3:$B$3,MATCH(14,$D$3:$D$3,0)) -> #N/A | G12: =INDEX($C$3:$C$3,MATCH(14,$D$3:$D$3,0)) -> #N/A
A13: 11 | B13: ='Lopsided Margins'!E13 -> 0.57631397 | C13: ='Lopsided Margins'!F13 -> 0.42368603 | E13: 11 | F13: =INDEX($B$3:$B$3,MATCH(14,$D$3:$D$3,0)) -> #N/A | G13: =INDEX($C$3:$C$3,MATCH(14,$D$3:$D$3,0)) -> #N/A
A14: 12 | B14: ='Lopsided Margins'!E14 -> 0.75322278 | C14: ='Lopsided Margins'!F14 -> 0.24677722 | E14: 12 | F14: =INDEX($B$3:$B$3,MATCH(14,$D$3:$D$3,0)) -> #N/A | G14: =INDEX($C$3:$C$3,MATCH(14,$D$3:$D$3,0)) -> #N/A
A15: 13 | B15: ='Lopsided Margins'!E15 -> 0.77689421 | C15: ='Lopsided Margins'!F15 -> 0.22310579 | E15: 13 | F15: =INDEX($B$3:$B$3,MATCH(14,$D$3:$D$3,0)) -> #N/A | G15: =INDEX($C$3:$C$3,MATCH(14,$D$3:$D$3,0)) -> #N/A

Sheet Efficiency Gap
B1: Party | E1: Lost Votes | H1: Surplus Votes | J1: Total Wasted Votes | O1: Total Wasted Votes | P1: % Wasted Votes of Total Votes
A2: DISTRICT | B2: Dem | C2: Rep | D2: Total Votes | E2: Dem | F2: Rep | G2: Minimum to win | H2: Dem | I2: Rep | J2: Dem | K2: Rep | M2: Statewide % Wasted Votes | N2: Dem | O2: =SUM(J2:J15) -> 14150372 | P2: =O2/SUM(D2:D15) -> 0.25283439
A3: 1 | B3: ='Lopsided Margins'!B3 -> 2014575 | C3: ='Lopsided Margins'!C3 -> 2729623 | D3: =SUM(B3:C3) -> 4744198 | E3: =IF(MAX(B3:C3)=B3,0,B3) -> 2014575 | F3: =IF(MAX(B3:C3)=B3,C3,0) -> 0 | G3: =D3/2 -> 2372099 | H3: =IF(MAX(B3:C3)=B3,B3-G3,0) -> 0 | I3: =IF(MAX(B3:C3)=B3,0,C3-G3) -> 357524 | J3: =MAX(E3,H3) -> 2014575 | K3: =MAX(F3,I3) -> 357524 | N3: Rep | O3: =SUM(K2:K15) -> 13833107 | P3: =O3/SUM(D2:D15) -> 0.24716561
A4: 2 | B4: ='Lopsided Margins'!B4 -> 1606164 | C4: ='Lopsided Margins'!C4 -> 2458415 | D4: =SUM(B4:C4) -> 4064579 | E4: =IF(MAX(B4:C4)=B4,0,B4) -> 1606164 | F4: =IF(MAX(B4:C4)=B4,C4,0) -> 0 | G4: =D4/2 -> 2032289.5 | H4: =IF(MAX(B4:C4)=B4,B4-G4,0) -> 0 | I4: =IF(MAX(B4:C4)=B4,0,C4-G4) -> 426125.5 | J4: =MAX(E4,H4) -> 1606164 | K4: =MAX(F4,I4) -> 426125.5
A5: 3 | B5: ='Lopsided Margins'!B5 -> 2060007 | C5: ='Lopsided Margins'!C5 -> 2067194 | D5: =SUM(B5:C5) -> 4127201 | E5: =IF(MAX(B5:C5)=B5,0,B5) -> 2060007 | F5: =IF(MAX(B5:C5)=B5,C5,0) -> 0 | G5: =D5/2 -> 2063600.5 | H5: =IF(MAX(B5:C5)=B5,B5-G5,0) -> 0 | I5: =IF(MAX(B5:C5)=B5,0,C5-G5) -> 3593.5 | J5: =MAX(E5,H5) -> 2060007 | K5: =MAX(F5,I5) -> 3593.5 | M5: Finding
A6: 4 | B6: ='Lopsided Margins'!B6 -> 1919525 | C6: ='Lopsided Margins'!C6 -> 2268384 | D6: =SUM(B6:C6) -> 4187909 | E6: =IF(MAX(B6:C6)=B6,0,B6) -> 1919525 | F6: =IF(MAX(B6:C6)=B6,C6,0) -> 0 | G6: =D6/2 -> 2093954.5 | H6: =IF(MAX(B6:C6)=B6,B6-G6,0) -> 0 | I6: =IF(MAX(B6:C6)=B6,0,C6-G6) -> 174429.5 | J6: =MAX(E6,H6) -> 1919525 | K6: =MAX(F6,I6) -> 174429.5 | M6: =IF(MAX(P2:P3)=P2,N3,N2) -> Rep | N6: Candidates have an efficiency gap advantage of
A7: 5 | B7: ='Lopsided Margins'!B7 -> 1639749 | C7: ='Lopsided Margins'!C7 -> 2383861 | D7: =SUM(B7:C7) -> 4023610 | E7: =IF(MAX(B7:C7)=B7,0,B7) -> 1639749 | F7: =IF(MAX(B7:C7)=B7,C7,0) -> 0 | G7: =D7/2 -> 2011805 | H7: =IF(MAX(B7:C7)=B7,B7-G7,0) -> 0 | I7: =IF(MAX(B7:C7)=B7,0,C7-G7) -> 372056 | J7: =MAX(E7,H7) -> 1639749 | K7: =MAX(F7,I7) -> 372056 | N7: =(MAX(O2:O3)-MIN(O2:O3))/SUM(D2:D15) -> 0.0056687824
A8: 6 | B8: ='Lopsided Margins'!B8 -> 2807351 | C8: ='Lopsided Margins'!C8 -> 1786702 | D8: =SUM(B8:C8) -> 4594053 | E8: =IF(MAX(B8:C8)=B8,0,B8) -> 0 | F8: =IF(MAX(B8:C8)=B8,C8,0) -> 1786702 | G8: =D8/2 -> 2297026.5 | H8: =IF(MAX(B8:C8)=B8,B8-G8,0) -> 510324.5 | I8: =IF(MAX(B8:C8)=B8,0,C8-G8) -> 0 | J8: =MAX(E8,H8) -> 510324.5 | K8: =MAX(F8,I8) -> 1786702
A9: 7 | B9: ='Lopsided Margins'!B9 -> 2294626 | C9: ='Lopsided Margins'!C9 -> 2256640 | D9: =SUM(B9:C9) -> 4551266 | E9: =IF(MAX(B9:C9)=B9,0,B9) -> 0 | F9: =IF(MAX(B9:C9)=B9,C9,0) -> 2256640 | G9: =D9/2 -> 2275633 | H9: =IF(MAX(B9:C9)=B9,B9-G9,0) -> 18993 | I9: =IF(MAX(B9:C9)=B9,0,C9-G9) -> 0 | J9: =MAX(E9,H9) -> 18993 | K9: =MAX(F9,I9) -> 2256640
A10: 8 | B10: ='Lopsided Margins'!B10 -> 2465441 | C10: ='Lopsided Margins'!C10 -> 2033607 | D10: =SUM(B10:C10) -> 4499048 | E10: =IF(MAX(B10:C10)=B10,0,B10) -> 0 | F10: =IF(MAX(B10:C10)=B10,C10,0) -> 2033607 | G10: =D10/2 -> 2249524 | H10: =IF(MAX(B10:C10)=B10,B10-G10,0) -> 215917 | I10: =IF(MAX(B10:C10)=B10,0,C10-G10) -> 0 | J10: =MAX(E10,H10) -> 215917 | K10: =MAX(F10,I10) -> 2033607
A11: 9 | B11: ='Lopsided Margins'!B11 -> 1750528 | C11: ='Lopsided Margins'!C11 -> 2812643 | D11: =SUM(B11:C11) -> 4563171 | E11: =IF(MAX(B11:C11)=B11,0,B11) -> 1750528 | F11: =IF(MAX(B11:C11)=B11,C11,0) -> 0 | G11: =D11/2 -> 2281585.5 | H11: =IF(MAX(B11:C11)=B11,B11-G11,0) -> 0 | I11: =IF(MAX(B11:C11)=B11,0,C11-G11) -> 531057.5 | J11: =MAX(E11,H11) -> 1750528 | K11: =MAX(F11,I11) -> 531057.5
A12: 10 | B12: ='Lopsided Margins'!B12 -> 2205758 | C12: ='Lopsided Margins'!C12 -> 2098661 | D12: =SUM(B12:C12) -> 4304419 | E12: =IF(MAX(B12:C12)=B12,0,B12) -> 0 | F12: =IF(MAX(B12:C12)=B12,C12,0) -> 2098661 | G12: =D12/2 -> 2152209.5 | H12: =IF(MAX(B12:C12)=B12,B12-G12,0) -> 53548.5 | I12: =IF(MAX(B12:C12)=B12,0,C12-G12) -> 0 | J12: =MAX(E12,H12) -> 53548.5 | K12: =MAX(F12,I12) -> 2098661
A13: 11 | B13: ='Lopsided Margins'!B13 -> 2734755 | C13: ='Lopsided Margins'!C13 -> 2010497 | D13: =SUM(B13:C13) -> 4745252 | E13: =IF(MAX(B13:C13)=B13,0,B13) -> 0 | F13: =IF(MAX(B13:C13)=B13,C13,0) -> 2010497 | G13: =D13/2 -> 2372626 | H13: =IF(MAX(B13:C13)=B13,B13-G13,0) -> 362129 | I13: =IF(MAX(B13:C13)=B13,0,C13-G13) -> 0 | J13: =MAX(E13,H13) -> 362129 | K13: =MAX(F13,I13) -> 2010497
A14: 12 | B14: ='Lopsided Margins'!B14 -> 3023910 | C14: ='Lopsided Margins'!C14 -> 990719 | D14: =SUM(B14:C14) -> 4014629 | E14: =IF(MAX(B14:C14)=B14,0,B14) -> 0 | F14: =IF(MAX(B14:C14)=B14,C14,0) -> 990719 | G14: =D14/2 -> 2007314.5 | H14: =IF(MAX(B14:C14)=B14,B14-G14,0) -> 1016595.5 | I14: =IF(MAX(B14:C14)=B14,0,C14-G14) -> 0 | J14: =MAX(E14,H14) -> 1016595.5 | K14: =MAX(F14,I14) -> 990719
A15: 13 | B15: ='Lopsided Margins'!B15 -> 2756127 | C15: ='Lopsided Margins'!C15 -> 791495 | D15: =SUM(B15:C15) -> 3547622 | E15: =IF(MAX(B15:C15)=B15,0,B15) -> 0 | F15: =IF(MAX(B15:C15)=B15,C15,0) -> 791495 | G15: =D15/2 -> 1773811 | H15: =IF(MAX(B15:C15)=B15,B15-G15,0) -> 982316 | I15: =IF(MAX(B15:C15)=B15,0,C15-G15) -> 0 | J15: =MAX(E15,H15) -> 982316 | K15: =MAX(F15,I15) -> 791495

Sheet Seats Votes Ratio
B1: Composite Score | H1: Vote Share | I1: Count of Seats | J1: Seat Share | K1: Proportionality Bias
A2: DISTRICT | B2: Dem | C2: Dem % | D2: Rep | E2: Rep % | G2: Dem | H2: =SUM(B2:B15)/(SUM(B2:B15)+SUM(D2:D15)) -> 0.52313932 | I2: =COUNT('Lopsided Margins'!G2:G15) -> 7 | J2: =I2/(I2+I3) -> 0.53846154 | K2: =J2-H2 -> 0.015322215
A3: 1 | B3: ='Lopsided Margins'!B3 -> 2014575 | C3: ='Lopsided Margins'!E3 -> 0.42463974 | D3: ='Lopsided Margins'!C3 -> 2729623 | E3: ='Lopsided Margins'!F3 -> 0.57536026 | G3: Rep | H3: =SUM(D2:D15)/(SUM(B2:B15)+SUM(D2:D15)) -> 0.47686068 | I3: =COUNT('Lopsided Margins'!H2:H115) -> 6 | J3: =I3/(I2+I3) -> 0.46153846 | K3: =J3-H3 -> -0.015322215
A4: 2 | B4: ='Lopsided Margins'!B4 -> 1606164 | C4: ='Lopsided Margins'!E4 -> 0.39516122 | D4: ='Lopsided Margins'!C4 -> 2458415 | E4: ='Lopsided Margins'!F4 -> 0.60483878
A5: 3 | B5: ='Lopsided Margins'!B5 -> 2060007 | C5: ='Lopsided Margins'!E5 -> 0.49912931 | D5: ='Lopsided Margins'!C5 -> 2067194 | E5: ='Lopsided Margins'!F5 -> 0.50087069
A6: 4 | B6: ='Lopsided Margins'!B6 -> 1919525 | C6: ='Lopsided Margins'!E6 -> 0.45834926 | D6: ='Lopsided Margins'!C6 -> 2268384 | E6: ='Lopsided Margins'!F6 -> 0.54165074
A7: 5 | B7: ='Lopsided Margins'!B7 -> 1639749 | C7: ='Lopsided Margins'!E7 -> 0.40753179 | D7: ='Lopsided Margins'!C7 -> 2383861 | E7: ='Lopsided Margins'!F7 -> 0.59246821
A8: 6 | B8: ='Lopsided Margins'!B8 -> 2807351 | C8: ='Lopsided Margins'!E8 -> 0.61108372 | D8: ='Lopsided Margins'!C8 -> 1786702 | E8: ='Lopsided Margins'!F8 -> 0.38891628
A9: 7 | B9: ='Lopsided Margins'!B9 -> 2294626 | C9: ='Lopsided Margins'!E9 -> 0.50417312 | D9: ='Lopsided Margins'!C9 -> 2256640 | E9: ='Lopsided Margins'!F9 -> 0.49582688
A10: 8 | B10: ='Lopsided Margins'!B10 -> 2465441 | C10: ='Lopsided Margins'!E10 -> 0.54799171 | D10: ='Lopsided Margins'!C10 -> 2033607 | E10: ='Lopsided Margins'!F10 -> 0.45200829
A11: 9 | B11: ='Lopsided Margins'!B11 -> 1750528 | C11: ='Lopsided Margins'!E11 -> 0.38362095 | D11: ='Lopsided Margins'!C11 -> 2812643 | E11: ='Lopsided Margins'!F11 -> 0.61637905
A12: 10 | B12: ='Lopsided Margins'!B12 -> 2205758 | C12: ='Lopsided Margins'!E12 -> 0.51244035 | D12: ='Lopsided Margins'!C12 -> 2098661 | E12: ='Lopsided Margins'!F12 -> 0.48755965
A13: 11 | B13: ='Lopsided Margins'!B13 -> 2734755 | C13: ='Lopsided Margins'!E13 -> 0.57631397 | D13: ='Lopsided Margins'!C13 -> 2010497 | E13: ='Lopsided Margins'!F13 -> 0.42368603
A14: 12 | B14: ='Lopsided Margins'!B14 -> 3023910 | C14: ='Lopsided Margins'!E14 -> 0.75322278 | D14: ='Lopsided Margins'!C14 -> 990719 | E14: ='Lopsided Margins'!F14 -> 0.24677722
A15: 13 | B15: ='Lopsided Margins'!B15 -> 2756127 | C15: ='Lopsided Margins'!E15 -> 0.77689421 | D15: ='Lopsided Margins'!C15 -> 791495 | E15: ='Lopsided Margins'!F15 -> 0.22310579
